BEGIN:VCALENDAR
VERSION:2.0
PRODID:-//wp-events-plugin.com//7.2.3.1//EN
TZID:Europe/Amsterdam
X-WR-TIMEZONE:Europe/Amsterdam
BEGIN:VEVENT
UID:2696@worldglaucomaweek.org
DTSTART;TZID=Europe/Amsterdam:20190313T090000
DTEND;TZID=Europe/Amsterdam:20190313T140000
DTSTAMP:20190306T170440Z
URL:https://www.worldglaucomaweek.org/activity/screening-event-107/
SUMMARY:Screening Event
DESCRIPTION:
CATEGORIES:Screening event
LOCATION:Rural Health Training Centre\, Palsora\, Sector 56\, Palsora.\, Ch
 andigarh\, Chandigarh\, India
GEO:30.7319588;76.72590689999993
X-APPLE-STRUCTURED-LOCATION;VALUE=URI;X-ADDRESS=Sector 56\, Palsora.\, Chan
 digarh\, Chandigarh\, India;X-APPLE-RADIUS=100;X-TITLE=Rural Health Traini
 ng Centre\, Palsora:geo:30.7319588,76.72590689999993
END:VEVENT
BEGIN:VTIMEZONE
TZID:Europe/Amsterdam
X-LIC-LOCATION:Europe/Amsterdam
BEGIN:STANDARD
DTSTART:20181028T020000
TZOFFSETFROM:+0200
TZOFFSETTO:+0100
TZNAME:CET
END:STANDARD
END:VTIMEZONE
END:VCALENDAR