BEGIN:VCALENDAR
VERSION:2.0
PRODID:-//wp-events-plugin.com//7.2.3.1//EN
TZID:Europe/Amsterdam
X-WR-TIMEZONE:Europe/Amsterdam
BEGIN:VEVENT
UID:2624@worldglaucomaweek.org
DTSTART;TZID=Europe/Amsterdam:20190310T100000
DTEND;TZID=Europe/Amsterdam:20190310T140000
DTSTAMP:20190305T101616Z
URL:https://www.worldglaucomaweek.org/activity/screening-event-106/
SUMMARY:Screening Event
DESCRIPTION:
CATEGORIES:Screening event
LOCATION:Okulomedik\, Starine Novaka 29\, Belgrade\, Serbia\, 11000\, Serbi
 a
GEO:44.8101178;20.476726999999983
X-APPLE-STRUCTURED-LOCATION;VALUE=URI;X-ADDRESS=Starine Novaka 29\, Belgrad
 e\, Serbia\, 11000\, Serbia;X-APPLE-RADIUS=100;X-TITLE=Okulomedik:geo:44.8
 101178,20.476726999999983
END:VEVENT
BEGIN:VTIMEZONE
TZID:Europe/Amsterdam
X-LIC-LOCATION:Europe/Amsterdam
BEGIN:STANDARD
DTSTART:20181028T020000
TZOFFSETFROM:+0200
TZOFFSETTO:+0100
TZNAME:CET
END:STANDARD
END:VTIMEZONE
END:VCALENDAR