BEGIN:VCALENDAR
VERSION:2.0
PRODID:-//wp-events-plugin.com//7.2.3.1//EN
TZID:Europe/Amsterdam
X-WR-TIMEZONE:Europe/Amsterdam
BEGIN:VEVENT
UID:2606@worldglaucomaweek.org
DTSTART;TZID=Europe/Amsterdam:20190314T090000
DTEND;TZID=Europe/Amsterdam:20190314T130000
DTSTAMP:20190304T213818Z
URL:https://www.worldglaucomaweek.org/activity/screening-event-105/
SUMMARY:Screening event
DESCRIPTION:Our glaucoma team at St John Eye hospital\, will be conducting 
 free screening from 9am till 1pm. The screening will be preceded by a talk
  on Glaucoma. Information leaflets will also be issued to all participants
  of the screening.
CATEGORIES:Screening event
LOCATION:St John Eye Hospital\, Soweto\, Johannesburg\, South Africa\, St J
 ohn Eye Hospital\, Johannesburg\, South Africa\, South Africa
GEO:-26.259729;27.933204299999943
X-APPLE-STRUCTURED-LOCATION;VALUE=URI;X-ADDRESS=St John Eye Hospital\, Joha
 nnesburg\, South Africa\, South Africa;X-APPLE-RADIUS=100;X-TITLE=St John 
 Eye Hospital\, Soweto\, Johannesburg\, South Africa:geo:-26.259729,27.9332
 04299999943
END:VEVENT
BEGIN:VTIMEZONE
TZID:Europe/Amsterdam
X-LIC-LOCATION:Europe/Amsterdam
BEGIN:STANDARD
DTSTART:20181028T020000
TZOFFSETFROM:+0200
TZOFFSETTO:+0100
TZNAME:CET
END:STANDARD
END:VTIMEZONE
END:VCALENDAR