BEGIN:VCALENDAR
VERSION:2.0
PRODID:-//wp-events-plugin.com//7.2.3.1//EN
TZID:Europe/Amsterdam
X-WR-TIMEZONE:Europe/Amsterdam
BEGIN:VEVENT
UID:2375@worldglaucomaweek.org
DTSTART;TZID=Europe/Amsterdam:20190306T080000
DTEND;TZID=Europe/Amsterdam:20190316T150000
DTSTAMP:20190222T055033Z
URL:https://www.worldglaucomaweek.org/activity/screening-event-101/
SUMMARY:screening event
DESCRIPTION:Free Screening of first degree relatives of glaucoma patients. 
 Interesting participants are requested to make an appointment for the scre
 ening activity through our clinic in-charge. The screening will involve Vi
 sual Acuity test\, Intra Ocular Pressure (IOP) measurement and Slit lamp e
 xamination.
ATTACH;FMTTYPE=image/jpeg:https://www.worldglaucomaweek.org/wp-content/upl
 oads/2019/02/NVSEC-logo-11.jpg
CATEGORIES:Screening event
LOCATION:New Vision Specialist Eye Clinic\, P. O. Box 105851\, Dar es Salaa
 m\, Dar es Salaam\, 00\, Tanzania
GEO:-6.763755;39.25028499999996
X-APPLE-STRUCTURED-LOCATION;VALUE=URI;X-ADDRESS=P. O. Box 105851\, Dar es S
 alaam\, Dar es Salaam\, 00\, Tanzania;X-APPLE-RADIUS=100;X-TITLE=New Visio
 n Specialist Eye Clinic:geo:-6.763755,39.25028499999996
END:VEVENT
BEGIN:VTIMEZONE
TZID:Europe/Amsterdam
X-LIC-LOCATION:Europe/Amsterdam
BEGIN:STANDARD
DTSTART:20181028T020000
TZOFFSETFROM:+0200
TZOFFSETTO:+0100
TZNAME:CET
END:STANDARD
END:VTIMEZONE
END:VCALENDAR