BEGIN:VCALENDAR
VERSION:2.0
PRODID:-//wp-events-plugin.com//7.2.3.1//EN
TZID:Europe/Amsterdam
X-WR-TIMEZONE:Europe/Amsterdam
BEGIN:VEVENT
UID:1786@worldglaucomaweek.org
DTSTART;TZID=Europe/Amsterdam;VALUE=DATE:20180312
DTEND;TZID=Europe/Amsterdam;VALUE=DATE:20180317
DTSTAMP:20180301T200845Z
URL:https://www.worldglaucomaweek.org/activity/screening-de-glaucoma/
SUMMARY:Screening de glaucoma
DESCRIPTION:We´ll offer a free exploration of intraocular pressure and opt
 ic nerve study
CATEGORIES:Screening event
LOCATION:Hospital NS Esperanza\, Avenida As Burgas\, nº2\, Santiago de Com
 postela\, a coruña\, 15705\, Galicia\, Spain
GEO:42.8780468;-8.553284299999973
X-APPLE-STRUCTURED-LOCATION;VALUE=URI;X-ADDRESS=Avenida As Burgas\, nº2\, 
 Santiago de Compostela\, a coruña\, 15705\, Galicia\, Spain;X-APPLE-RADIU
 S=100;X-TITLE=Hospital NS Esperanza:geo:42.8780468,-8.553284299999973
END:VEVENT
BEGIN:VTIMEZONE
TZID:Europe/Amsterdam
X-LIC-LOCATION:Europe/Amsterdam
BEGIN:STANDARD
DTSTART:20171029T020000
TZOFFSETFROM:+0200
TZOFFSETTO:+0100
TZNAME:CET
END:STANDARD
END:VTIMEZONE
END:VCALENDAR