BEGIN:VCALENDAR
VERSION:2.0
PRODID:-//wp-events-plugin.com//7.2.3.1//EN
TZID:Europe/Amsterdam
X-WR-TIMEZONE:Europe/Amsterdam
BEGIN:VEVENT
UID:78@worldglaucomaweek.org
DTSTART;TZID=Europe/Amsterdam:20150311T083000
DTEND;TZID=Europe/Amsterdam:20150311T113000
DTSTAMP:20150218T061547Z
URL:https://www.worldglaucomaweek.org/activity/screening-clinic-2/
SUMMARY:screening clinic
DESCRIPTION:
CATEGORIES:Media coverage
LOCATION:Arts College Salman bin Abdul Aziz Unversity\, Khaldia\, Al-Kharj\
 , Saudi Arabia
GEO:24.15;47.299999999999955
X-APPLE-STRUCTURED-LOCATION;VALUE=URI;X-ADDRESS=Khaldia\, Al-Kharj\, Saudi 
 Arabia;X-APPLE-RADIUS=100;X-TITLE=Arts College Salman bin Abdul Aziz Unver
 sity:geo:24.15,47.299999999999955
END:VEVENT
BEGIN:VTIMEZONE
TZID:Europe/Amsterdam
X-LIC-LOCATION:Europe/Amsterdam
BEGIN:STANDARD
DTSTART:20141026T020000
TZOFFSETFROM:+0200
TZOFFSETTO:+0100
TZNAME:CET
END:STANDARD
END:VTIMEZONE
END:VCALENDAR