BEGIN:VCALENDAR
VERSION:2.0
PRODID:-//wp-events-plugin.com//7.2.3.1//EN
TZID:Europe/Amsterdam
X-WR-TIMEZONE:Europe/Amsterdam
BEGIN:VEVENT
UID:2892@worldglaucomaweek.org
DTSTART;TZID=Europe/Amsterdam:20190312T090000
DTEND;TZID=Europe/Amsterdam:20190312T120000
DTSTAMP:20190312T155209Z
URL:https://www.worldglaucomaweek.org/activity/screening-and-health-educat
 ion-for-glaucoma-awareness/
SUMMARY:Screening and health education for glaucoma awareness
DESCRIPTION:Organized by Ophthalmology Department\, University of Medicine 
 ( Mandalay)\n\nwe do glaucoma screening to public and health education for
  glaucoma awareness
CATEGORIES:Screening event
LOCATION:MMA\, 31 street\, between 70 and 71 street \, Mandalay \, Mandalay
  \, Mandalay \, Myanmar(Burma)
GEO:21.9588282;96.08910319999995
X-APPLE-STRUCTURED-LOCATION;VALUE=URI;X-ADDRESS=31 street\, between 70 and 
 71 street \, Mandalay \, Mandalay \, Mandalay \, Myanmar(Burma);X-APPLE-RA
 DIUS=100;X-TITLE=MMA:geo:21.9588282,96.08910319999995
END:VEVENT
BEGIN:VTIMEZONE
TZID:Europe/Amsterdam
X-LIC-LOCATION:Europe/Amsterdam
BEGIN:STANDARD
DTSTART:20181028T020000
TZOFFSETFROM:+0200
TZOFFSETTO:+0100
TZNAME:CET
END:STANDARD
END:VTIMEZONE
END:VCALENDAR