BEGIN:VCALENDAR
VERSION:2.0
PRODID:-//wp-events-plugin.com//7.2.3.1//EN
TZID:Europe/Amsterdam
X-WR-TIMEZONE:Europe/Amsterdam
BEGIN:VEVENT
UID:2900@worldglaucomaweek.org
DTSTART;TZID=Europe/Amsterdam:20190313T091500
DTEND;TZID=Europe/Amsterdam:20190314T140000
DTSTAMP:20190313T015115Z
URL:https://www.worldglaucomaweek.org/activity/screening-and-educational-e
 vent/
SUMMARY:Screening and educational event
DESCRIPTION:
CATEGORIES:Screening event
LOCATION:Instituto de Glaucoma y Catarata\, Av\, Reducto 1330\, Lima\, Lima
 \, 18\, Lima\, Peru
GEO:-12.1298884;-77.02329650000001
X-APPLE-STRUCTURED-LOCATION;VALUE=URI;X-ADDRESS=Av\, Reducto 1330\, Lima\, 
 Lima\, 18\, Lima\, Peru;X-APPLE-RADIUS=100;X-TITLE=Instituto de Glaucoma y
  Catarata:geo:-12.1298884,-77.02329650000001
END:VEVENT
BEGIN:VTIMEZONE
TZID:Europe/Amsterdam
X-LIC-LOCATION:Europe/Amsterdam
BEGIN:STANDARD
DTSTART:20181028T020000
TZOFFSETFROM:+0200
TZOFFSETTO:+0100
TZNAME:CET
END:STANDARD
END:VTIMEZONE
END:VCALENDAR