BEGIN:VCALENDAR
VERSION:2.0
PRODID:-//wp-events-plugin.com//7.2.3.1//EN
TZID:Europe/Amsterdam
X-WR-TIMEZONE:Europe/Amsterdam
BEGIN:VEVENT
UID:1785@worldglaucomaweek.org
DTSTART;TZID=Europe/Amsterdam;VALUE=DATE:20180301
DTEND;TZID=Europe/Amsterdam;VALUE=DATE:20180401
DTSTAMP:20180301T174658Z
URL:https://www.worldglaucomaweek.org/activity/screening-a-familiares-de-p
 acientes-glaucomatosos/
SUMMARY:Screening a familiares de pacientes glaucomatosos
DESCRIPTION:Durante el mes de Marzo en el instituto se realizará screening
  a todos los familiares de pacientes de glaucoma\, realizando Campo Visual
  y toma de presión intraocular. Reserve mediante cita online: www.institu
 tooftalmologico.net/cita
CATEGORIES:Screening event
LOCATION:Instituto Oftalmologico Dapena Lavin\, Ferraz 11\, Madrid\, Spain\
 , 28008\, Madrid\, Spain
GEO:40.4262506;-3.717564100000004
X-APPLE-STRUCTURED-LOCATION;VALUE=URI;X-ADDRESS=Ferraz 11\, Madrid\, Spain\
 , 28008\, Madrid\, Spain;X-APPLE-RADIUS=100;X-TITLE=Instituto Oftalmologic
 o Dapena Lavin:geo:40.4262506,-3.717564100000004
END:VEVENT
BEGIN:VTIMEZONE
TZID:Europe/Amsterdam
X-LIC-LOCATION:Europe/Amsterdam
BEGIN:STANDARD
DTSTART:20171029T020000
TZOFFSETFROM:+0200
TZOFFSETTO:+0100
TZNAME:CET
END:STANDARD
BEGIN:DAYLIGHT
DTSTART:20180325T030000
TZOFFSETFROM:+0100
TZOFFSETTO:+0200
TZNAME:CEST
END:DAYLIGHT
END:VTIMEZONE
END:VCALENDAR