BEGIN:VCALENDAR
VERSION:2.0
PRODID:-//wp-events-plugin.com//7.2.3.1//EN
TZID:Europe/Amsterdam
X-WR-TIMEZONE:Europe/Amsterdam
BEGIN:VEVENT
UID:2836@worldglaucomaweek.org
DTSTART;TZID=Europe/Amsterdam;VALUE=DATE:20190315
DTEND;TZID=Europe/Amsterdam;VALUE=DATE:20190316
DTSTAMP:20190310T110224Z
URL:https://www.worldglaucomaweek.org/activity/screening-23/
SUMMARY:Screening
DESCRIPTION:The activity is supported by the Dpt. of Ophthalmology of the U
 niversity of Parma\, and it is done under the patronage of Società Italia
 na Glaucoma\, SIGLA
CATEGORIES:Screening event
LOCATION:UNIONE ITALIANA dei CIECHI e degli IPOVEDENTI (UICI)\, Strada Nino
  Bixio 47/A\, Parma\, Italy
GEO:44.799723;10.321186200000056
X-APPLE-STRUCTURED-LOCATION;VALUE=URI;X-ADDRESS=Strada Nino Bixio 47/A\, Pa
 rma\, Italy;X-APPLE-RADIUS=100;X-TITLE=UNIONE ITALIANA dei CIECHI e degli 
 IPOVEDENTI (UICI):geo:44.799723,10.321186200000056
END:VEVENT
BEGIN:VTIMEZONE
TZID:Europe/Amsterdam
X-LIC-LOCATION:Europe/Amsterdam
BEGIN:STANDARD
DTSTART:20181028T020000
TZOFFSETFROM:+0200
TZOFFSETTO:+0100
TZNAME:CET
END:STANDARD
END:VTIMEZONE
END:VCALENDAR