BEGIN:VCALENDAR
VERSION:2.0
PRODID:-//wp-events-plugin.com//7.2.3.1//EN
TZID:Europe/Amsterdam
X-WR-TIMEZONE:Europe/Amsterdam
BEGIN:VEVENT
UID:1773@worldglaucomaweek.org
DTSTART;TZID=Europe/Amsterdam:20180312T140000
DTEND;TZID=Europe/Amsterdam:20180312T150000
DTSTAMP:20180227T132416Z
URL:https://www.worldglaucomaweek.org/activity/screening-18/
SUMMARY:Screening
DESCRIPTION:Private optometrist practice that is doing screening.
CATEGORIES:Screening event
LOCATION:Harcourt Carter\, Belleville\, St. Michael\, Barbados
GEO:13.0971025;-59.60313099999996
X-APPLE-STRUCTURED-LOCATION;VALUE=URI;X-ADDRESS=Belleville\, St. Michael\, 
 Barbados;X-APPLE-RADIUS=100;X-TITLE=Harcourt Carter:geo:13.0971025,-59.603
 13099999996
END:VEVENT
BEGIN:VTIMEZONE
TZID:Europe/Amsterdam
X-LIC-LOCATION:Europe/Amsterdam
BEGIN:STANDARD
DTSTART:20171029T020000
TZOFFSETFROM:+0200
TZOFFSETTO:+0100
TZNAME:CET
END:STANDARD
END:VTIMEZONE
END:VCALENDAR