BEGIN:VCALENDAR
VERSION:2.0
PRODID:-//wp-events-plugin.com//7.2.3.1//EN
TZID:Europe/Amsterdam
X-WR-TIMEZONE:Europe/Amsterdam
BEGIN:VEVENT
UID:2766@worldglaucomaweek.org
DTSTART;TZID=Europe/Amsterdam:20190316T133000
DTEND;TZID=Europe/Amsterdam:20190316T163000
DTSTAMP:20190308T222554Z
URL:https://www.worldglaucomaweek.org/activity/screenig-activity-at-sao-jo
 se-nursing-home-for-the-elderly/
SUMMARY:Screenig activity at Sao Jose nursing home for the elderly
DESCRIPTION:Glaucoma specialists from Centro Oftalmologico de  Minas Gerai
 s Hospital will be involved in a social and screening activity by visiting
  an elderly resting home at Belo Horizonte (São Jose Asylum). The idea is
  looking for the"sneak thief of sight" in a high risk population. We hipho
 tesise that because of the social economical difficulties of having their 
 eyes tested by a specialist might increase the risk of undiagnosed glaucom
 a.\n\nWe will take 3 slits lamps\, a non contact tonometer\, a tonopen to 
 measure the eye pressure on those bedriddens\, 4 glaucoma specialist\, and
  take along a willingness to help them with love and compassion
CATEGORIES:Awareness
LOCATION:Sao Jose Home for elderly\, rua sao jose 200\, belo horizonte\, mi
 nas gerais\, 30390570\, olhos dágua\, Brazil
GEO:-19.955245;-43.994176100000004
X-APPLE-STRUCTURED-LOCATION;VALUE=URI;X-ADDRESS=rua sao jose 200\, belo hor
 izonte\, minas gerais\, 30390570\, olhos dágua\, Brazil;X-APPLE-RADIUS=10
 0;X-TITLE=Sao Jose Home for elderly:geo:-19.955245,-43.994176100000004
END:VEVENT
BEGIN:VTIMEZONE
TZID:Europe/Amsterdam
X-LIC-LOCATION:Europe/Amsterdam
BEGIN:STANDARD
DTSTART:20181028T020000
TZOFFSETFROM:+0200
TZOFFSETTO:+0100
TZNAME:CET
END:STANDARD
END:VTIMEZONE
END:VCALENDAR