BEGIN:VCALENDAR
VERSION:2.0
PRODID:-//wp-events-plugin.com//7.2.3.1//EN
TZID:Europe/Amsterdam
X-WR-TIMEZONE:Europe/Amsterdam
BEGIN:VEVENT
UID:2100@worldglaucomaweek.org
DTSTART;TZID=Europe/Amsterdam:20180312T080000
DTEND;TZID=Europe/Amsterdam:20180317T163000
DTSTAMP:20180312T142349Z
URL:https://www.worldglaucomaweek.org/activity/scarborough-hospital-eye-cl
 inic-screen-event/
SUMMARY:Scarborough hospital  Eye Clinic Screen Event
DESCRIPTION:OSWI is pleased to announce that there will be a series of scre
 ening events at Scarborough Hospital\, Tobago at three health centers  (M
 ason hall\, Canaan and Scarborough) across the island and one at the hospi
 tal courtyard.
CATEGORIES:Screening event
LOCATION:Tobago\, Scarborough hospital eye clinic.\, Connector Road\, Signa
 l Hill\, Scarborough\,  Tobago\, 00000\, Caribbean\, Trinidad and Tobago
GEO:11.180348;-60.753018999999995
X-APPLE-STRUCTURED-LOCATION;VALUE=URI;X-ADDRESS=Scarborough hospital eye cl
 inic.\, Connector Road\, Signal Hill\, Scarborough\,  Tobago\, 00000\, Car
 ibbean\, Trinidad and Tobago;X-APPLE-RADIUS=100;X-TITLE=Tobago:geo:11.1803
 48,-60.753018999999995
END:VEVENT
BEGIN:VTIMEZONE
TZID:Europe/Amsterdam
X-LIC-LOCATION:Europe/Amsterdam
BEGIN:STANDARD
DTSTART:20171029T020000
TZOFFSETFROM:+0200
TZOFFSETTO:+0100
TZNAME:CET
END:STANDARD
END:VTIMEZONE
END:VCALENDAR