BEGIN:VCALENDAR
VERSION:2.0
PRODID:-//wp-events-plugin.com//7.2.3.1//EN
TZID:Europe/Amsterdam
X-WR-TIMEZONE:Europe/Amsterdam
BEGIN:VEVENT
UID:678@worldglaucomaweek.org
DTSTART;TZID=Europe/Amsterdam;VALUE=DATE:20160311
DTEND;TZID=Europe/Amsterdam;VALUE=DATE:20160314
DTSTAMP:20160215T173614Z
URL:https://www.worldglaucomaweek.org/activity/russian-glaucoma-society-ro
 und-table/
SUMMARY:Russian Glaucoma Society Round Table
DESCRIPTION:2-days activities of Russian Glaucoma Society\, special lecture
 s for Doctors and Patients
ATTACH;FMTTYPE=image/jpeg:https://www.worldglaucomaweek.org/wp-content/upl
 oads/2016/02/RGO-Logo-2015_JPEG.jpg
CATEGORIES:Media coverage
LOCATION:Moscow\, Snegiry Hotel\, Moscow\, Russia\, Russia
GEO:55.755826;37.6173
X-APPLE-STRUCTURED-LOCATION;VALUE=URI;X-ADDRESS=Snegiry Hotel\, Moscow\, Ru
 ssia\, Russia;X-APPLE-RADIUS=100;X-TITLE=Moscow:geo:55.755826,37.6173
END:VEVENT
BEGIN:VTIMEZONE
TZID:Europe/Amsterdam
X-LIC-LOCATION:Europe/Amsterdam
BEGIN:STANDARD
DTSTART:20151025T020000
TZOFFSETFROM:+0200
TZOFFSETTO:+0100
TZNAME:CET
END:STANDARD
END:VTIMEZONE
END:VCALENDAR