BEGIN:VCALENDAR
VERSION:2.0
PRODID:-//wp-events-plugin.com//7.2.3.1//EN
TZID:Europe/Amsterdam
X-WR-TIMEZONE:Europe/Amsterdam
BEGIN:VEVENT
UID:2932@worldglaucomaweek.org
DTSTART;TZID=Europe/Amsterdam;VALUE=DATE:20190311
DTEND;TZID=Europe/Amsterdam;VALUE=DATE:20190317
DTSTAMP:20190314T152436Z
URL:https://www.worldglaucomaweek.org/activity/reuniones-con-aseguradoras-
 para-realizar-charlas-a-los-auditores-directores-medicos-y-otros-interesad
 os-en-entidades-de-salud/
SUMMARY:Reuniones con aseguradoras  para realizar charlas a los auditores\,
  directores medicos y otros interesados en entidades de salud.
DESCRIPTION:
CATEGORIES:Awareness
LOCATION:Clinica Oftalmologica del Caribe\, Calle 86 #50 158\, Bogota\, Col
 ombia
GEO:4.710988599999999;-74.072092
X-APPLE-STRUCTURED-LOCATION;VALUE=URI;X-ADDRESS=Calle 86 #50 158\, Bogota\,
  Colombia;X-APPLE-RADIUS=100;X-TITLE=Clinica Oftalmologica del Caribe:geo:
 4.710988599999999,-74.072092
END:VEVENT
BEGIN:VTIMEZONE
TZID:Europe/Amsterdam
X-LIC-LOCATION:Europe/Amsterdam
BEGIN:STANDARD
DTSTART:20181028T020000
TZOFFSETFROM:+0200
TZOFFSETTO:+0100
TZNAME:CET
END:STANDARD
END:VTIMEZONE
END:VCALENDAR