BEGIN:VCALENDAR
VERSION:2.0
PRODID:-//wp-events-plugin.com//7.2.3.1//EN
TZID:Europe/Amsterdam
X-WR-TIMEZONE:Europe/Amsterdam
BEGIN:VEVENT
UID:2688@worldglaucomaweek.org
DTSTART;TZID=Europe/Amsterdam:20190311T173000
DTEND;TZID=Europe/Amsterdam:20190311T193000
DTSTAMP:20190306T140041Z
URL:https://www.worldglaucomaweek.org/activity/reunion-dinformation-sur-le
 -glaucome/
SUMMARY:Réunion d'information sur le glaucome
DESCRIPTION:Le centre régional UNADEV de Bordeaux (Union Nationale des Ave
 ugles et Déficients Visuels) organise une réunion d'information dans ses
  locaux le 11 mars à 17h30.\n\nGratuit et ouvert à tous sur inscription 
 au 05 56 33 85 60
CATEGORIES:Other
LOCATION:Centre régional UNADEV de Bordeaux\, 12\, rue de Cursol\, Bordeau
 x\, 33000\, France
GEO:44.8349005;-0.5761210000000574
X-APPLE-STRUCTURED-LOCATION;VALUE=URI;X-ADDRESS=12\, rue de Cursol\, Bordea
 ux\, 33000\, France;X-APPLE-RADIUS=100;X-TITLE=Centre régional UNADEV de 
 Bordeaux:geo:44.8349005,-0.5761210000000574
END:VEVENT
BEGIN:VTIMEZONE
TZID:Europe/Amsterdam
X-LIC-LOCATION:Europe/Amsterdam
BEGIN:STANDARD
DTSTART:20181028T020000
TZOFFSETFROM:+0200
TZOFFSETTO:+0100
TZNAME:CET
END:STANDARD
END:VTIMEZONE
END:VCALENDAR