BEGIN:VCALENDAR
VERSION:2.0
PRODID:-//wp-events-plugin.com//7.2.3.1//EN
TZID:Europe/Amsterdam
X-WR-TIMEZONE:Europe/Amsterdam
BEGIN:VEVENT
UID:2691@worldglaucomaweek.org
DTSTART;TZID=Europe/Amsterdam:20190313T000000
DTEND;TZID=Europe/Amsterdam:20190313T000000
DTSTAMP:20190306T134036Z
URL:https://www.worldglaucomaweek.org/activity/reunion-dinformation-le-gla
 ucome-combattre-linvisible/
SUMMARY:Réunion d'information "Le glaucome\, combattre l'invisible"
DESCRIPTION:Le centre régional UNADEV de Lille organise dans ses locaux un
 e réunion d'information intitulée "Le glaucome\, combatte l'invisible"\,
  avec le Dr Guillaume Besombes.\n\nOuvert à tous et gratuit sur inscripti
 on au 03 20 45 28 13
CATEGORIES:Other
LOCATION:Centre régional UNADEV Lille\, 15\, place aux bleuets\, Lille\, 5
 9000\, France
GEO:50.6414716;3.067811699999993
X-APPLE-STRUCTURED-LOCATION;VALUE=URI;X-ADDRESS=15\, place aux bleuets\, Li
 lle\, 59000\, France;X-APPLE-RADIUS=100;X-TITLE=Centre régional UNADEV Li
 lle:geo:50.6414716,3.067811699999993
END:VEVENT
BEGIN:VTIMEZONE
TZID:Europe/Amsterdam
X-LIC-LOCATION:Europe/Amsterdam
BEGIN:STANDARD
DTSTART:20181028T020000
TZOFFSETFROM:+0200
TZOFFSETTO:+0100
TZNAME:CET
END:STANDARD
END:VTIMEZONE
END:VCALENDAR