BEGIN:VCALENDAR
VERSION:2.0
PRODID:-//wp-events-plugin.com//7.2.3.1//EN
TZID:Europe/Amsterdam
X-WR-TIMEZONE:Europe/Amsterdam
BEGIN:VEVENT
UID:2277@worldglaucomaweek.org
DTSTART;TZID=Europe/Amsterdam;VALUE=DATE:20180312
DTEND;TZID=Europe/Amsterdam;VALUE=DATE:20180313
DTSTAMP:20180319T003534Z
URL:https://www.worldglaucomaweek.org/activity/resume-of-activities-by-day
 -world-glaucoma-week-in-ecuador-2/
SUMMARY:RESUME OF ACTIVITIES BY DAY\, WORLD GLAUCOMA WEEK IN ECUADOR
DESCRIPTION:[video width="400" height="224" mp4="https://www.worldglaucomaw
 eek.org/wp-content/uploads/2018/03/12-de-Marzo.mp4"][/video]
ATTACH;FMTTYPE=image/jpeg:https://www.worldglaucomaweek.org/wp-content/upl
 oads/2018/03/WOLD-GLAUCOMA-WEEK-IN-ECUADOR-1.jpg
CATEGORIES:Media coverage
LOCATION:ECUADOR\, ECUADOR\, ECUADOR\, ECUADOR\, Ecuador
GEO:-1.831239;-78.18340599999999
X-APPLE-STRUCTURED-LOCATION;VALUE=URI;X-ADDRESS=ECUADOR\, ECUADOR\, ECUADOR
 \, Ecuador;X-APPLE-RADIUS=100;X-TITLE=ECUADOR:geo:-1.831239,-78.1834059999
 9999
END:VEVENT
BEGIN:VTIMEZONE
TZID:Europe/Amsterdam
X-LIC-LOCATION:Europe/Amsterdam
BEGIN:STANDARD
DTSTART:20171029T020000
TZOFFSETFROM:+0200
TZOFFSETTO:+0100
TZNAME:CET
END:STANDARD
END:VTIMEZONE
END:VCALENDAR