BEGIN:VCALENDAR
VERSION:2.0
PRODID:-//wp-events-plugin.com//7.2.3.1//EN
TZID:Europe/Amsterdam
X-WR-TIMEZONE:Europe/Amsterdam
BEGIN:VEVENT
UID:2169@worldglaucomaweek.org
DTSTART;TZID=Europe/Amsterdam;VALUE=DATE:20180311
DTEND;TZID=Europe/Amsterdam;VALUE=DATE:20180318
DTSTAMP:20180314T035201Z
URL:https://www.worldglaucomaweek.org/activity/region-1-medical-center-pos
 ter-display/
SUMMARY:Region 1 Medical Center Poster Display
DESCRIPTION:
CATEGORIES:Public educational
LOCATION:Region 1 Medical Center\, Arellano St\, Dagupan City\, Pangasinan\
 , Philippines
GEO:16.0560424;120.34056729999998
X-APPLE-STRUCTURED-LOCATION;VALUE=URI;X-ADDRESS=Arellano St\, Dagupan City\
 , Pangasinan\, Philippines;X-APPLE-RADIUS=100;X-TITLE=Region 1 Medical Cen
 ter:geo:16.0560424,120.34056729999998
END:VEVENT
BEGIN:VTIMEZONE
TZID:Europe/Amsterdam
X-LIC-LOCATION:Europe/Amsterdam
BEGIN:STANDARD
DTSTART:20171029T020000
TZOFFSETFROM:+0200
TZOFFSETTO:+0100
TZNAME:CET
END:STANDARD
END:VTIMEZONE
END:VCALENDAR