BEGIN:VCALENDAR
VERSION:2.0
PRODID:-//wp-events-plugin.com//7.2.3.1//EN
TZID:Europe/Amsterdam
X-WR-TIMEZONE:Europe/Amsterdam
BEGIN:VEVENT
UID:2284@worldglaucomaweek.org
DTSTART;TZID=Europe/Amsterdam:20180317T000000
DTEND;TZID=Europe/Amsterdam:20180317T000000
DTSTAMP:20180319T193042Z
URL:https://www.worldglaucomaweek.org/activity/rally/
SUMMARY:rally
DESCRIPTION:rally by BGS
CATEGORIES:Media coverage
LOCATION:BGS OFFICE\, HARUN EYE FOUNDATION\, DHAKA\, BANGLADESH\, 1207\, Ba
 ngladesh
GEO:23.7431642;90.38266810000005
X-APPLE-STRUCTURED-LOCATION;VALUE=URI;X-ADDRESS=HARUN EYE FOUNDATION\, DHAK
 A\, BANGLADESH\, 1207\, Bangladesh;X-APPLE-RADIUS=100;X-TITLE=BGS OFFICE:g
 eo:23.7431642,90.38266810000005
END:VEVENT
BEGIN:VTIMEZONE
TZID:Europe/Amsterdam
X-LIC-LOCATION:Europe/Amsterdam
BEGIN:STANDARD
DTSTART:20171029T020000
TZOFFSETFROM:+0200
TZOFFSETTO:+0100
TZNAME:CET
END:STANDARD
END:VTIMEZONE
END:VCALENDAR