BEGIN:VCALENDAR
VERSION:2.0
PRODID:-//wp-events-plugin.com//7.2.3.1//EN
TZID:Europe/Amsterdam
X-WR-TIMEZONE:Europe/Amsterdam
BEGIN:VEVENT
UID:2122@worldglaucomaweek.org
DTSTART;TZID=Europe/Amsterdam:20180312T100000
DTEND;TZID=Europe/Amsterdam:20180312T110000
DTSTAMP:20180313T031323Z
URL:https://www.worldglaucomaweek.org/activity/radio-talk-show-interview/
SUMMARY:Radio Talk Show Interview
DESCRIPTION:
CATEGORIES:Media coverage
LOCATION:More 94 FM\, Nassau\, Nassau\, New Providence\, Bahamas
GEO:25.0479835;-77.355413
X-APPLE-STRUCTURED-LOCATION;VALUE=URI;X-ADDRESS=Nassau\, Nassau\, New Provi
 dence\, Bahamas;X-APPLE-RADIUS=100;X-TITLE=More 94 FM:geo:25.0479835,-77.3
 55413
END:VEVENT
BEGIN:VTIMEZONE
TZID:Europe/Amsterdam
X-LIC-LOCATION:Europe/Amsterdam
BEGIN:STANDARD
DTSTART:20171029T020000
TZOFFSETFROM:+0200
TZOFFSETTO:+0100
TZNAME:CET
END:STANDARD
END:VTIMEZONE
END:VCALENDAR