BEGIN:VCALENDAR
VERSION:2.0
PRODID:-//wp-events-plugin.com//7.2.3.1//EN
TZID:Europe/Amsterdam
X-WR-TIMEZONE:Europe/Amsterdam
BEGIN:VEVENT
UID:2593@worldglaucomaweek.org
DTSTART;TZID=Europe/Amsterdam:20190311T080000
DTEND;TZID=Europe/Amsterdam:20190311T100000
DTSTAMP:20190303T070732Z
URL:https://www.worldglaucomaweek.org/activity/radio-talk-in-yoruba-the-lo
 cal-language/
SUMMARY:Radio Talk in Yoruba\, the Local Language
DESCRIPTION:A Yoruba talk show on glaucoma.\n\nCall in interactive sessions
  with the public.
CATEGORIES:Media coverage
LOCATION:Bond Fm\, LAGOS OSN\, 46 Adekunle Fajuyi Way\, GRA\, IKEJA\, LAGOS
 \, 100001\, Nigeria
GEO:6.571346999999999;3.346178000000009
X-APPLE-STRUCTURED-LOCATION;VALUE=URI;X-ADDRESS=46 Adekunle Fajuyi Way\, GR
 A\, IKEJA\, LAGOS\, 100001\, Nigeria;X-APPLE-RADIUS=100;X-TITLE=Bond Fm\, 
 LAGOS OSN:geo:6.571346999999999,3.346178000000009
END:VEVENT
BEGIN:VTIMEZONE
TZID:Europe/Amsterdam
X-LIC-LOCATION:Europe/Amsterdam
BEGIN:STANDARD
DTSTART:20181028T020000
TZOFFSETFROM:+0200
TZOFFSETTO:+0100
TZNAME:CET
END:STANDARD
END:VTIMEZONE
END:VCALENDAR