BEGIN:VCALENDAR
VERSION:2.0
PRODID:-//wp-events-plugin.com//7.2.3.1//EN
TZID:Europe/Amsterdam
X-WR-TIMEZONE:Europe/Amsterdam
BEGIN:VEVENT
UID:1821@worldglaucomaweek.org
DTSTART;TZID=Europe/Amsterdam:20180315T090000
DTEND;TZID=Europe/Amsterdam:20180315T100000
DTSTAMP:20180306T035103Z
URL:https://www.worldglaucomaweek.org/activity/radio-live-talkshow-about-g
 laucoma-with-elsa-gustianty-md-ophth-phd/
SUMMARY:Radio Live Talkshow about Glaucoma with Elsa Gustianty\, MD\, Ophth
 \, PhD
DESCRIPTION:Elsa Gustianty\, MD\, Ophth\, PhD will share and give informati
 on about glaucoma in Radio that owned by Ministry of Health\, Indonesia\, 
 namely Siaran Radio Kesehatan.
ATTACH;FMTTYPE=image/jpeg:https://www.worldglaucomaweek.org/wp-content/upl
 oads/2018/03/small-WGW-agenda-4.jpg
CATEGORIES:Media coverage
LOCATION:SRK\, Kementerian Kesehatan RI\, H.R. Rasuna Said Blok X.5 Kav. 4-
 9\, Jakarta\, Jakarta\, 12950\, Jakarta\, Indonesia
GEO:-6.230585;106.83245999999997
X-APPLE-STRUCTURED-LOCATION;VALUE=URI;X-ADDRESS=H.R. Rasuna Said Blok X.5 K
 av. 4-9\, Jakarta\, Jakarta\, 12950\, Jakarta\, Indonesia;X-APPLE-RADIUS=1
 00;X-TITLE=SRK\, Kementerian Kesehatan RI:geo:-6.230585,106.83245999999997
END:VEVENT
BEGIN:VTIMEZONE
TZID:Europe/Amsterdam
X-LIC-LOCATION:Europe/Amsterdam
BEGIN:STANDARD
DTSTART:20171029T020000
TZOFFSETFROM:+0200
TZOFFSETTO:+0100
TZNAME:CET
END:STANDARD
END:VTIMEZONE
END:VCALENDAR