BEGIN:VCALENDAR
VERSION:2.0
PRODID:-//wp-events-plugin.com//7.2.3.1//EN
TZID:Europe/Amsterdam
X-WR-TIMEZONE:Europe/Amsterdam
BEGIN:VEVENT
UID:2872@worldglaucomaweek.org
DTSTART;TZID=Europe/Amsterdam:20190312T121500
DTEND;TZID=Europe/Amsterdam:20190312T130000
DTSTAMP:20190311T214041Z
URL:https://www.worldglaucomaweek.org/activity/radio-interview-with-a-medi
 cal-expert-on-glaucoma/
SUMMARY:Radio Interview with a Medical Expert on Glaucoma
DESCRIPTION:Radio Interview with a Medical Expert on the HEALTH FOCUS SHOW 
 with OLUWASEUN SKILLZ on UNILAG 103.1FM to educate public in Lagos Nigeria
  about the silent but dangerous menace that Glaucoma is.
CATEGORIES:Media coverage
LOCATION:UNILAG RADIO 103.1FM\, Media Center\, akoka\, lagos\, 23401\, Nige
 ria
GEO:6.526958100000001;3.3918105999999852
X-APPLE-STRUCTURED-LOCATION;VALUE=URI;X-ADDRESS=Media Center\, akoka\, lago
 s\, 23401\, Nigeria;X-APPLE-RADIUS=100;X-TITLE=UNILAG RADIO 103.1FM:geo:6.
 526958100000001,3.3918105999999852
END:VEVENT
BEGIN:VTIMEZONE
TZID:Europe/Amsterdam
X-LIC-LOCATION:Europe/Amsterdam
BEGIN:STANDARD
DTSTART:20181028T020000
TZOFFSETFROM:+0200
TZOFFSETTO:+0100
TZNAME:CET
END:STANDARD
END:VTIMEZONE
END:VCALENDAR