BEGIN:VCALENDAR
VERSION:2.0
PRODID:-//wp-events-plugin.com//7.2.3.1//EN
TZID:Europe/Amsterdam
X-WR-TIMEZONE:Europe/Amsterdam
BEGIN:VEVENT
UID:2838@worldglaucomaweek.org
DTSTART;TZID=Europe/Amsterdam:20190310T111500
DTEND;TZID=Europe/Amsterdam:20190310T120000
DTSTAMP:20190310T142131Z
URL:https://www.worldglaucomaweek.org/activity/radio-interview-dzjc-laoag-
 city/
SUMMARY:Radio Interview DZJC Laoag City
DESCRIPTION:
CATEGORIES:Media coverage
LOCATION:Laoag\, Laoag City\, Laoag City\, Ilocos Norte\, Philippines
GEO:18.1995666;120.5844783
X-APPLE-STRUCTURED-LOCATION;VALUE=URI;X-ADDRESS=Laoag City\, Laoag City\, I
 locos Norte\, Philippines;X-APPLE-RADIUS=100;X-TITLE=Laoag:geo:18.1995666,
 120.5844783
END:VEVENT
BEGIN:VTIMEZONE
TZID:Europe/Amsterdam
X-LIC-LOCATION:Europe/Amsterdam
BEGIN:STANDARD
DTSTART:20181028T020000
TZOFFSETFROM:+0200
TZOFFSETTO:+0100
TZNAME:CET
END:STANDARD
END:VTIMEZONE
END:VCALENDAR