BEGIN:VCALENDAR
VERSION:2.0
PRODID:-//wp-events-plugin.com//7.2.3.1//EN
TZID:Europe/Amsterdam
X-WR-TIMEZONE:Europe/Amsterdam
BEGIN:VEVENT
UID:2707@worldglaucomaweek.org
DTSTART;TZID=Europe/Amsterdam:20190312T080000
DTEND;TZID=Europe/Amsterdam:20190312T090000
DTSTAMP:20190307T063147Z
URL:https://www.worldglaucomaweek.org/activity/radio-guesting-at-dznl-aksy
 on-radyo/
SUMMARY:Radio Guesting at DZNL Aksyon Radyo
DESCRIPTION:Glaucoma specialists from the Ilocos Training and Regional Medi
 cal Center will be guesting in an AM radio show (DZNL 783 kHz) on March 12
 \, 2019\, 8 to 9 AM to give information about glaucoma.
CATEGORIES:Media coverage
LOCATION:DNZL-AM Station\, Pagdalagan\, San Fernando City\, 2500\, La Union
 \, Philippines
GEO:16.5754639;120.32147080000004
X-APPLE-STRUCTURED-LOCATION;VALUE=URI;X-ADDRESS=Pagdalagan\, San Fernando C
 ity\, 2500\, La Union\, Philippines;X-APPLE-RADIUS=100;X-TITLE=DNZL-AM Sta
 tion:geo:16.5754639,120.32147080000004
END:VEVENT
BEGIN:VTIMEZONE
TZID:Europe/Amsterdam
X-LIC-LOCATION:Europe/Amsterdam
BEGIN:STANDARD
DTSTART:20181028T020000
TZOFFSETFROM:+0200
TZOFFSETTO:+0100
TZNAME:CET
END:STANDARD
END:VTIMEZONE
END:VCALENDAR