BEGIN:VCALENDAR
VERSION:2.0
PRODID:-//wp-events-plugin.com//7.2.3.1//EN
TZID:Europe/Amsterdam
X-WR-TIMEZONE:Europe/Amsterdam
BEGIN:VEVENT
UID:2184@worldglaucomaweek.org
DTSTART;TZID=Europe/Amsterdam;VALUE=DATE:20180311
DTEND;TZID=Europe/Amsterdam;VALUE=DATE:20180318
DTSTAMP:20180314T041211Z
URL:https://www.worldglaucomaweek.org/activity/quezon-memorial-hospital-po
 ster-display/
SUMMARY:Quezon Memorial Hospital Poster Display
DESCRIPTION:
CATEGORIES:Public educational
LOCATION:Quezon Memorial Hospital\, Quezon Ave\, Lucena City\, Philippines
GEO:13.9436266;121.6139101
X-APPLE-STRUCTURED-LOCATION;VALUE=URI;X-ADDRESS=Quezon Ave\, Lucena City\, 
 Philippines;X-APPLE-RADIUS=100;X-TITLE=Quezon Memorial Hospital:geo:13.943
 6266,121.6139101
END:VEVENT
BEGIN:VTIMEZONE
TZID:Europe/Amsterdam
X-LIC-LOCATION:Europe/Amsterdam
BEGIN:STANDARD
DTSTART:20171029T020000
TZOFFSETFROM:+0200
TZOFFSETTO:+0100
TZNAME:CET
END:STANDARD
END:VTIMEZONE
END:VCALENDAR