BEGIN:VCALENDAR
VERSION:2.0
PRODID:-//wp-events-plugin.com//7.2.3.1//EN
TZID:Europe/Amsterdam
X-WR-TIMEZONE:Europe/Amsterdam
BEGIN:VEVENT
UID:2162@worldglaucomaweek.org
DTSTART;TZID=Europe/Amsterdam;VALUE=DATE:20180311
DTEND;TZID=Europe/Amsterdam;VALUE=DATE:20180318
DTSTAMP:20180314T031319Z
URL:https://www.worldglaucomaweek.org/activity/qualimed-hospital-iloilo-po
 ster-display/
SUMMARY:Qualimed Hospital Iloilo Poster Display
DESCRIPTION:
CATEGORIES:Public educational
LOCATION:Qualimed Hospital Iloilo\, Donato Pison Ave.\, Mandurriao\, Iloilo
  City\, Philippines
GEO:10.7068617;122.54774709999992
X-APPLE-STRUCTURED-LOCATION;VALUE=URI;X-ADDRESS=Donato Pison Ave.\, Mandurr
 iao\, Iloilo City\, Philippines;X-APPLE-RADIUS=100;X-TITLE=Qualimed Hospit
 al Iloilo:geo:10.7068617,122.54774709999992
END:VEVENT
BEGIN:VTIMEZONE
TZID:Europe/Amsterdam
X-LIC-LOCATION:Europe/Amsterdam
BEGIN:STANDARD
DTSTART:20171029T020000
TZOFFSETFROM:+0200
TZOFFSETTO:+0100
TZNAME:CET
END:STANDARD
END:VTIMEZONE
END:VCALENDAR