BEGIN:VCALENDAR
VERSION:2.0
PRODID:-//wp-events-plugin.com//7.2.3.1//EN
TZID:Europe/Amsterdam
X-WR-TIMEZONE:Europe/Amsterdam
BEGIN:VEVENT
UID:2920@worldglaucomaweek.org
DTSTART;TZID=Europe/Amsterdam;VALUE=DATE:20190314
DTEND;TZID=Europe/Amsterdam;VALUE=DATE:20190315
DTSTAMP:20190314T141959Z
URL:https://www.worldglaucomaweek.org/activity/punto-de-informacion-proyec
 cion-de-videos-conversatorio-para-pacientes-y-funcionarios/
SUMMARY:Punto de Información - Proyección de vídeos - Conversatorio para
  pacientes y funcionarios
DESCRIPTION:
CATEGORIES:Other
LOCATION:Clinica de Ojos\, Autopista #NORTE-54\, Bogota\, Colombia
GEO:4.729235699999999;-74.049532
X-APPLE-STRUCTURED-LOCATION;VALUE=URI;X-ADDRESS=Autopista #NORTE-54\, Bogot
 a\, Colombia;X-APPLE-RADIUS=100;X-TITLE=Clinica de Ojos:geo:4.729235699999
 999,-74.049532
END:VEVENT
BEGIN:VTIMEZONE
TZID:Europe/Amsterdam
X-LIC-LOCATION:Europe/Amsterdam
BEGIN:STANDARD
DTSTART:20181028T020000
TZOFFSETFROM:+0200
TZOFFSETTO:+0100
TZNAME:CET
END:STANDARD
END:VTIMEZONE
END:VCALENDAR