BEGIN:VCALENDAR
VERSION:2.0
PRODID:-//wp-events-plugin.com//7.2.3.1//EN
TZID:Europe/Amsterdam
X-WR-TIMEZONE:Europe/Amsterdam
BEGIN:VEVENT
UID:2014@worldglaucomaweek.org
DTSTART;TZID=Europe/Amsterdam:20180317T090000
DTEND;TZID=Europe/Amsterdam:20180317T140000
DTSTAMP:20180309T145821Z
URL:https://www.worldglaucomaweek.org/activity/public-screening/
SUMMARY:public screening
DESCRIPTION:
CATEGORIES:Screening event
LOCATION:Osu-Re presbyterian Hall\, Osu\, ACCRA\, Ghana
GEO:5.553827;-0.1752524999999423
X-APPLE-STRUCTURED-LOCATION;VALUE=URI;X-ADDRESS=Osu\, ACCRA\, Ghana;X-APPLE
 -RADIUS=100;X-TITLE=Osu-Re presbyterian Hall:geo:5.553827,-0.1752524999999
 423
END:VEVENT
BEGIN:VTIMEZONE
TZID:Europe/Amsterdam
X-LIC-LOCATION:Europe/Amsterdam
BEGIN:STANDARD
DTSTART:20171029T020000
TZOFFSETFROM:+0200
TZOFFSETTO:+0100
TZNAME:CET
END:STANDARD
END:VTIMEZONE
END:VCALENDAR