BEGIN:VCALENDAR
VERSION:2.0
PRODID:-//wp-events-plugin.com//7.2.3.1//EN
TZID:Europe/Amsterdam
X-WR-TIMEZONE:Europe/Amsterdam
BEGIN:VEVENT
UID:1726@worldglaucomaweek.org
DTSTART;TZID=Europe/Amsterdam;VALUE=DATE:20180311
DTEND;TZID=Europe/Amsterdam;VALUE=DATE:20180318
DTSTAMP:20180223T084845Z
URL:https://www.worldglaucomaweek.org/activity/public-media-press-release/
SUMMARY:Public media - press release
DESCRIPTION:
CATEGORIES:Media coverage
LOCATION:Lithuania\, Eiveniu str 2\, Kaunas\, Lithuania\, 50009\, Lithuania
GEO:54.917744;23.921925999999985
X-APPLE-STRUCTURED-LOCATION;VALUE=URI;X-ADDRESS=Eiveniu str 2\, Kaunas\, Li
 thuania\, 50009\, Lithuania;X-APPLE-RADIUS=100;X-TITLE=Lithuania:geo:54.91
 7744,23.921925999999985
END:VEVENT
BEGIN:VTIMEZONE
TZID:Europe/Amsterdam
X-LIC-LOCATION:Europe/Amsterdam
BEGIN:STANDARD
DTSTART:20171029T020000
TZOFFSETFROM:+0200
TZOFFSETTO:+0100
TZNAME:CET
END:STANDARD
END:VTIMEZONE
END:VCALENDAR