BEGIN:VCALENDAR
VERSION:2.0
PRODID:-//wp-events-plugin.com//7.2.3.1//EN
TZID:Europe/Amsterdam
X-WR-TIMEZONE:Europe/Amsterdam
BEGIN:VEVENT
UID:2181@worldglaucomaweek.org
DTSTART;TZID=Europe/Amsterdam:20180316T150000
DTEND;TZID=Europe/Amsterdam:20180316T170000
DTSTAMP:20180320T150815Z
URL:https://www.worldglaucomaweek.org/activity/public-lecture-glaucoma/
SUMMARY:Public lecture Glaucoma
DESCRIPTION:
ATTACH;FMTTYPE=image/jpeg:https://www.worldglaucomaweek.org/wp-content/upl
 oads/2018/03/IMG-20180226-WA00082.jpg
CATEGORIES:Public educational
LOCATION:Lecture theatre 6 and 7\, 6th and 7th floor\, Dr. R. P. Centre for
  Ophthalmic Sciences\, AIIMS\, New Delhi\, Delhi\, 110022\, South Delhi\, 
 India
GEO:28.566695;77.20892479999998
X-APPLE-STRUCTURED-LOCATION;VALUE=URI;X-ADDRESS=6th and 7th floor\, Dr. R. 
 P. Centre for Ophthalmic Sciences\, AIIMS\, New Delhi\, Delhi\, 110022\, S
 outh Delhi\, India;X-APPLE-RADIUS=100;X-TITLE=Lecture theatre 6 and 7:geo:
 28.566695,77.20892479999998
END:VEVENT
BEGIN:VTIMEZONE
TZID:Europe/Amsterdam
X-LIC-LOCATION:Europe/Amsterdam
BEGIN:STANDARD
DTSTART:20171029T020000
TZOFFSETFROM:+0200
TZOFFSETTO:+0100
TZNAME:CET
END:STANDARD
END:VTIMEZONE
END:VCALENDAR