BEGIN:VCALENDAR
VERSION:2.0
PRODID:-//wp-events-plugin.com//7.2.3.1//EN
TZID:Europe/Amsterdam
X-WR-TIMEZONE:Europe/Amsterdam
BEGIN:VEVENT
UID:2005@worldglaucomaweek.org
DTSTART;TZID=Europe/Amsterdam:20180312T190000
DTEND;TZID=Europe/Amsterdam:20180312T200000
DTSTAMP:20180309T134440Z
URL:https://www.worldglaucomaweek.org/activity/public-lecture-9/
SUMMARY:Public Lecture
DESCRIPTION:Lecture: Glaucoma Surgery: Revelations
CATEGORIES:Public educational
LOCATION:UWI Cave Hill Campus\, Cavehill\, St. Michael\, Barbados
GEO:13.1330817;-59.623302999999964
X-APPLE-STRUCTURED-LOCATION;VALUE=URI;X-ADDRESS=Cavehill\, St. Michael\, Ba
 rbados;X-APPLE-RADIUS=100;X-TITLE=UWI Cave Hill Campus:geo:13.1330817,-59.
 623302999999964
END:VEVENT
BEGIN:VTIMEZONE
TZID:Europe/Amsterdam
X-LIC-LOCATION:Europe/Amsterdam
BEGIN:STANDARD
DTSTART:20171029T020000
TZOFFSETFROM:+0200
TZOFFSETTO:+0100
TZNAME:CET
END:STANDARD
END:VTIMEZONE
END:VCALENDAR