BEGIN:VCALENDAR
VERSION:2.0
PRODID:-//wp-events-plugin.com//7.2.3.1//EN
TZID:Europe/Amsterdam
X-WR-TIMEZONE:Europe/Amsterdam
BEGIN:VEVENT
UID:2369@worldglaucomaweek.org
DTSTART;TZID=Europe/Amsterdam:20190313T160000
DTEND;TZID=Europe/Amsterdam:20190313T180000
DTSTAMP:20190221T080932Z
URL:https://www.worldglaucomaweek.org/activity/public-lecture-10/
SUMMARY:Public lecture
DESCRIPTION:
CATEGORIES:Public educational
LOCATION:St. Erik Eye Hospital\, Polhemsgatan 50\, Stockholm\, Stockholm\, 
 11282\, Sweden
GEO:59.33395909999999;18.03957170000001
X-APPLE-STRUCTURED-LOCATION;VALUE=URI;X-ADDRESS=Polhemsgatan 50\, Stockholm
 \, Stockholm\, 11282\, Sweden;X-APPLE-RADIUS=100;X-TITLE=St. Erik Eye Hosp
 ital:geo:59.33395909999999,18.03957170000001
END:VEVENT
BEGIN:VTIMEZONE
TZID:Europe/Amsterdam
X-LIC-LOCATION:Europe/Amsterdam
BEGIN:STANDARD
DTSTART:20181028T020000
TZOFFSETFROM:+0200
TZOFFSETTO:+0100
TZNAME:CET
END:STANDARD
END:VTIMEZONE
END:VCALENDAR