BEGIN:VCALENDAR
VERSION:2.0
PRODID:-//wp-events-plugin.com//7.2.3.1//EN
TZID:Europe/Amsterdam
X-WR-TIMEZONE:Europe/Amsterdam
BEGIN:VEVENT
UID:2351@worldglaucomaweek.org
DTSTART;TZID=Europe/Amsterdam:20190313T100000
DTEND;TZID=Europe/Amsterdam:20190313T110000
DTSTAMP:20190219T095753Z
URL:https://www.worldglaucomaweek.org/activity/public-lay-forum/
SUMMARY:Public Lay Forum
DESCRIPTION:The PGH-Department of Ophthalmology and Visual Sciences will be
  hosting a public health education lay forum on glaucoma at the Sentro Oft
 almologico Jose Rizal Building. Difficult scientific concepts will be rela
 yed in a simple\, patient-friendly format to maximize patient understandin
 g to empower them as partners in their healthcare.
CATEGORIES:Public educational
LOCATION:Sentro Oftalmologico Jose Rizal\, Pholippine General Hospital\, Ta
 ft Avenue\, Manila\, NCR\, 1000\, Luzon\, Philippines
GEO:14.57824853365853;120.98499841491525
X-APPLE-STRUCTURED-LOCATION;VALUE=URI;X-ADDRESS=Pholippine General Hospital
 \, Taft Avenue\, Manila\, NCR\, 1000\, Luzon\, Philippines;X-APPLE-RADIUS=
 100;X-TITLE=Sentro Oftalmologico Jose Rizal:geo:14.57824853365853,120.9849
 9841491525
END:VEVENT
BEGIN:VTIMEZONE
TZID:Europe/Amsterdam
X-LIC-LOCATION:Europe/Amsterdam
BEGIN:STANDARD
DTSTART:20181028T020000
TZOFFSETFROM:+0200
TZOFFSETTO:+0100
TZNAME:CET
END:STANDARD
END:VTIMEZONE
END:VCALENDAR