BEGIN:VCALENDAR
VERSION:2.0
PRODID:-//wp-events-plugin.com//7.2.3.1//EN
TZID:Europe/Amsterdam
X-WR-TIMEZONE:Europe/Amsterdam
BEGIN:VEVENT
UID:2591@worldglaucomaweek.org
DTSTART;TZID=Europe/Amsterdam:20190312T093000
DTEND;TZID=Europe/Amsterdam:20190312T120000
DTSTAMP:20190303T070938Z
URL:https://www.worldglaucomaweek.org/activity/public-health-lecture/
SUMMARY:Public  Health Lecture
DESCRIPTION:
CATEGORIES:Public educational
LOCATION:Lagos State University Teaching Hospital / College of Medicine\, 1
  - 5 Oba Akinjobi Street\, IKEJA\, LAGOS\, 100001\, Nigeria
GEO:6.5954434;3.3411409999999932
X-APPLE-STRUCTURED-LOCATION;VALUE=URI;X-ADDRESS=1 - 5 Oba Akinjobi Street\,
  IKEJA\, LAGOS\, 100001\, Nigeria;X-APPLE-RADIUS=100;X-TITLE=Lagos State U
 niversity Teaching Hospital / College of Medicine:geo:6.5954434,3.34114099
 99999932
END:VEVENT
BEGIN:VTIMEZONE
TZID:Europe/Amsterdam
X-LIC-LOCATION:Europe/Amsterdam
BEGIN:STANDARD
DTSTART:20181028T020000
TZOFFSETFROM:+0200
TZOFFSETTO:+0100
TZNAME:CET
END:STANDARD
END:VTIMEZONE
END:VCALENDAR