BEGIN:VCALENDAR
VERSION:2.0
PRODID:-//wp-events-plugin.com//7.2.3.1//EN
TZID:Europe/Amsterdam
X-WR-TIMEZONE:Europe/Amsterdam
BEGIN:VEVENT
UID:2557@worldglaucomaweek.org
DTSTART;TZID=Europe/Amsterdam:20190308T090000
DTEND;TZID=Europe/Amsterdam:20190308T120000
DTSTAMP:20190226T095051Z
URL:https://www.worldglaucomaweek.org/activity/public-glaucoma-educational
 -event/
SUMMARY:Public glaucoma educational event
DESCRIPTION:Glaucoma patient education:\n\nWe have a presentation on genera
 l knowledge of glaucoma: what is glaucoma\, when to go for a check up\, ho
 w to follow with the treatment... for 300 people at the Ho Chi Minh city C
 enter of health communication and education. 
CATEGORIES:Public educational
LOCATION:Health Information and Education Center Ho Chi Minh City\, 59 Nguy
 en thi minh khai\, Ward Ben Thanh\, District 1\, Ho Chi Minh\, Vietnam
GEO:10.7738712;106.68986760000007
X-APPLE-STRUCTURED-LOCATION;VALUE=URI;X-ADDRESS=59 Nguyen thi minh khai\, W
 ard Ben Thanh\, District 1\, Ho Chi Minh\, Vietnam;X-APPLE-RADIUS=100;X-TI
 TLE=Health Information and Education Center Ho Chi Minh City:geo:10.773871
 2,106.68986760000007
END:VEVENT
BEGIN:VTIMEZONE
TZID:Europe/Amsterdam
X-LIC-LOCATION:Europe/Amsterdam
BEGIN:STANDARD
DTSTART:20181028T020000
TZOFFSETFROM:+0200
TZOFFSETTO:+0100
TZNAME:CET
END:STANDARD
END:VTIMEZONE
END:VCALENDAR