BEGIN:VCALENDAR
VERSION:2.0
PRODID:-//wp-events-plugin.com//7.2.3.1//EN
TZID:Europe/Amsterdam
X-WR-TIMEZONE:Europe/Amsterdam
BEGIN:VEVENT
UID:2899@worldglaucomaweek.org
DTSTART;TZID=Europe/Amsterdam:20190314T193000
DTEND;TZID=Europe/Amsterdam:20190314T203000
DTSTAMP:20190313T011728Z
URL:https://www.worldglaucomaweek.org/activity/public-educational-what-is-
 glaucoma/
SUMMARY:Public Educational: “What is Glaucoma?”
DESCRIPTION:
ATTACH;FMTTYPE=image/jpeg:https://www.worldglaucomaweek.org/wp-content/upl
 oads/2019/03/166b4b50-326a-492a-a148-745d3eda1d07.jpg
CATEGORIES:Public educational
LOCATION:Núcleo de Oftalmologia Especializada\, Av. João Pinheiro\, 146 /
  5º Andar\, Belo Horizonte\, Minas Gerais\, 30130-922\, Lourdes\, Brazil
GEO:-19.9263487;-43.93673460000002
X-APPLE-STRUCTURED-LOCATION;VALUE=URI;X-ADDRESS=Av. João Pinheiro\, 146 / 
 5º Andar\, Belo Horizonte\, Minas Gerais\, 30130-922\, Lourdes\, Brazil;X
 -APPLE-RADIUS=100;X-TITLE=Núcleo de Oftalmologia Especializada:geo:-19.92
 63487,-43.93673460000002
END:VEVENT
BEGIN:VTIMEZONE
TZID:Europe/Amsterdam
X-LIC-LOCATION:Europe/Amsterdam
BEGIN:STANDARD
DTSTART:20181028T020000
TZOFFSETFROM:+0200
TZOFFSETTO:+0100
TZNAME:CET
END:STANDARD
END:VTIMEZONE
END:VCALENDAR