BEGIN:VCALENDAR
VERSION:2.0
PRODID:-//wp-events-plugin.com//7.2.3.1//EN
TZID:Europe/Amsterdam
X-WR-TIMEZONE:Europe/Amsterdam
BEGIN:VEVENT
UID:2573@worldglaucomaweek.org
DTSTART;TZID=Europe/Amsterdam;VALUE=DATE:20190315
DTEND;TZID=Europe/Amsterdam;VALUE=DATE:20190316
DTSTAMP:20190228T170542Z
URL:https://www.worldglaucomaweek.org/activity/public-educational-6/
SUMMARY:public educational
DESCRIPTION:
CATEGORIES:Public educational
LOCATION:Kira Hospital\, 47 av nzero/Kindindo\, BUJUMBURA\, BURUNDI\, 2010\
 , bujumbura\, Burundi
GEO:-3.4000563;29.358968799999957
X-APPLE-STRUCTURED-LOCATION;VALUE=URI;X-ADDRESS=47 av nzero/Kindindo\, BUJU
 MBURA\, BURUNDI\, 2010\, bujumbura\, Burundi;X-APPLE-RADIUS=100;X-TITLE=Ki
 ra Hospital:geo:-3.4000563,29.358968799999957
END:VEVENT
BEGIN:VTIMEZONE
TZID:Europe/Amsterdam
X-LIC-LOCATION:Europe/Amsterdam
BEGIN:STANDARD
DTSTART:20181028T020000
TZOFFSETFROM:+0200
TZOFFSETTO:+0100
TZNAME:CET
END:STANDARD
END:VTIMEZONE
END:VCALENDAR