BEGIN:VCALENDAR
VERSION:2.0
PRODID:-//wp-events-plugin.com//7.2.3.1//EN
TZID:Europe/Amsterdam
X-WR-TIMEZONE:Europe/Amsterdam
BEGIN:VEVENT
UID:2350@worldglaucomaweek.org
DTSTART;TZID=Europe/Amsterdam:20190314T191500
DTEND;TZID=Europe/Amsterdam:20190314T203000
DTSTAMP:20190217T190157Z
URL:https://www.worldglaucomaweek.org/activity/public-educational-5/
SUMMARY:Public Educational
DESCRIPTION:
CATEGORIES:Public educational
LOCATION:Clínica Rementería\, C/Almagro 36\, Madrid\, Spain\, 28010\, Mad
 rid\, Spain
GEO:40.431082;-3.692079299999932
X-APPLE-STRUCTURED-LOCATION;VALUE=URI;X-ADDRESS=C/Almagro 36\, Madrid\, Spa
 in\, 28010\, Madrid\, Spain;X-APPLE-RADIUS=100;X-TITLE=Clínica Rementerí
 a:geo:40.431082,-3.692079299999932
END:VEVENT
BEGIN:VTIMEZONE
TZID:Europe/Amsterdam
X-LIC-LOCATION:Europe/Amsterdam
BEGIN:STANDARD
DTSTART:20181028T020000
TZOFFSETFROM:+0200
TZOFFSETTO:+0100
TZNAME:CET
END:STANDARD
END:VTIMEZONE
END:VCALENDAR