BEGIN:VCALENDAR
VERSION:2.0
PRODID:-//wp-events-plugin.com//7.2.3.1//EN
TZID:Europe/Amsterdam
X-WR-TIMEZONE:Europe/Amsterdam
BEGIN:VEVENT
UID:2704@worldglaucomaweek.org
DTSTART;TZID=Europe/Amsterdam:20190311T000000
DTEND;TZID=Europe/Amsterdam:20190315T235900
DTSTAMP:20220902T223137Z
URL:https://www.worldglaucomaweek.org/activity/public-education-to-raise-a
 wareness-about-glaucoma/
SUMMARY:Public education to raise awareness about glaucoma.
DESCRIPTION:During the world glaucoma week\, we will educate the public tha
 t attend the hospital for any medical condition and their families about w
 hat is glaucoma\, its risk factors\, and what can be done to reduce its bu
 rden to patients and society.
CATEGORIES:Public educational
LOCATION:Ophthalmology Department\, Faculty of Medicine and University Hosp
 ital UANL\, Gonzalitoz y Madero\, Monterrey\, Nuevo Leon\, Mexico
GEO:25.688364982889787;-100.35027513545498
X-APPLE-STRUCTURED-LOCATION;VALUE=URI;X-ADDRESS=Gonzalitoz y Madero\, Monte
 rrey\, Nuevo Leon\, Mexico;X-APPLE-RADIUS=100;X-TITLE=Ophthalmology Depart
 ment\, Faculty of Medicine and University Hospital UANL:geo:25.68836498288
 9787,-100.35027513545498
END:VEVENT
BEGIN:VTIMEZONE
TZID:Europe/Amsterdam
X-LIC-LOCATION:Europe/Amsterdam
BEGIN:STANDARD
DTSTART:20181028T020000
TZOFFSETFROM:+0200
TZOFFSETTO:+0100
TZNAME:CET
END:STANDARD
END:VTIMEZONE
END:VCALENDAR