BEGIN:VCALENDAR
VERSION:2.0
PRODID:-//wp-events-plugin.com//7.2.3.1//EN
TZID:Europe/Amsterdam
X-WR-TIMEZONE:Europe/Amsterdam
BEGIN:VEVENT
UID:2240@worldglaucomaweek.org
DTSTART;TZID=Europe/Amsterdam;VALUE=DATE:20180312
DTEND;TZID=Europe/Amsterdam;VALUE=DATE:20180318
DTSTAMP:20180316T104906Z
URL:https://www.worldglaucomaweek.org/activity/public-education-6/
SUMMARY:Public Education
DESCRIPTION: \n\nhttp://www.benhvienmat.com/index.php/news/295/46/BeNH-GLoC
 oM-NHuNG-TRIeU-CHuNG-THuoNG-Bi-Bo-QUA.html\n\nhttps://tuoitre.vn/ke-cuop-a
 nh-sang-20180314100110752.htm\n\n&nbsp\;\n\n&nbsp\;\n\n&nbsp\;
CATEGORIES:Media coverage
LOCATION:EYE HOSPITAL HO CHI MINH CITY\, 280 DIEN BIEN PHU\, DISTRICT 3\, H
 O CHI MINH\, Vietnam
GEO:10.7786893;106.68536449999999
X-APPLE-STRUCTURED-LOCATION;VALUE=URI;X-ADDRESS=280 DIEN BIEN PHU\, DISTRIC
 T 3\, HO CHI MINH\, Vietnam;X-APPLE-RADIUS=100;X-TITLE=EYE HOSPITAL HO CHI
  MINH CITY:geo:10.7786893,106.68536449999999
END:VEVENT
BEGIN:VTIMEZONE
TZID:Europe/Amsterdam
X-LIC-LOCATION:Europe/Amsterdam
BEGIN:STANDARD
DTSTART:20171029T020000
TZOFFSETFROM:+0200
TZOFFSETTO:+0100
TZNAME:CET
END:STANDARD
END:VTIMEZONE
END:VCALENDAR