BEGIN:VCALENDAR
VERSION:2.0
PRODID:-//wp-events-plugin.com//7.2.3.1//EN
TZID:Europe/Amsterdam
X-WR-TIMEZONE:Europe/Amsterdam
BEGIN:VEVENT
UID:2700@worldglaucomaweek.org
DTSTART;TZID=Europe/Amsterdam:20190314T000000
DTEND;TZID=Europe/Amsterdam:20190314T000000
DTSTAMP:20190306T193413Z
URL:https://www.worldglaucomaweek.org/activity/public-conference-2/
SUMMARY:Public Conference
DESCRIPTION:We are organizing a public conference to inform people about gl
 aucoma.
CATEGORIES:Public educational
LOCATION:Geneva University UniDufour\, Uni Dufour \, Geneva\, Switzerland
GEO:46.1995831;6.142171500000018
X-APPLE-STRUCTURED-LOCATION;VALUE=URI;X-ADDRESS=Uni Dufour \, Geneva\, Swit
 zerland;X-APPLE-RADIUS=100;X-TITLE=Geneva University UniDufour:geo:46.1995
 831,6.142171500000018
END:VEVENT
BEGIN:VTIMEZONE
TZID:Europe/Amsterdam
X-LIC-LOCATION:Europe/Amsterdam
BEGIN:STANDARD
DTSTART:20181028T020000
TZOFFSETFROM:+0200
TZOFFSETTO:+0100
TZNAME:CET
END:STANDARD
END:VTIMEZONE
END:VCALENDAR