BEGIN:VCALENDAR
VERSION:2.0
PRODID:-//wp-events-plugin.com//7.2.3.1//EN
TZID:Europe/Amsterdam
X-WR-TIMEZONE:Europe/Amsterdam
BEGIN:VEVENT
UID:2810@worldglaucomaweek.org
DTSTART;TZID=Europe/Amsterdam:20190310T000000
DTEND;TZID=Europe/Amsterdam:20190317T000000
DTSTAMP:20190309T180126Z
URL:https://www.worldglaucomaweek.org/activity/public-awarness-campaign/
SUMMARY:Public Awarness Campaign
DESCRIPTION:Billboard cars will drive at public places at Antalya
ATTACH;FMTTYPE=image/jpeg:https://www.worldglaucomaweek.org/wp-content/upl
 oads/2019/03/PHOTO-2019-03-09-17-33-07-1.jpg
CATEGORIES:Public educational
LOCATION:Antalya\, Antalya\, Antalya\, Turkey
GEO:36.8968908;30.713323299999956
X-APPLE-STRUCTURED-LOCATION;VALUE=URI;X-ADDRESS=Antalya\, Antalya\, Turkey;
 X-APPLE-RADIUS=100;X-TITLE=Antalya:geo:36.8968908,30.713323299999956
END:VEVENT
BEGIN:VTIMEZONE
TZID:Europe/Amsterdam
X-LIC-LOCATION:Europe/Amsterdam
BEGIN:STANDARD
DTSTART:20181028T020000
TZOFFSETFROM:+0200
TZOFFSETTO:+0100
TZNAME:CET
END:STANDARD
END:VTIMEZONE
END:VCALENDAR