BEGIN:VCALENDAR
VERSION:2.0
PRODID:-//wp-events-plugin.com//7.2.3.1//EN
TZID:Europe/Amsterdam
X-WR-TIMEZONE:Europe/Amsterdam
BEGIN:VEVENT
UID:2281@worldglaucomaweek.org
DTSTART;TZID=Europe/Amsterdam:20180317T110000
DTEND;TZID=Europe/Amsterdam:20180317T123000
DTSTAMP:20180319T092136Z
URL:https://www.worldglaucomaweek.org/activity/public-awareness-programme/
SUMMARY:Public Awareness programme
DESCRIPTION:
CATEGORIES:Public educational
LOCATION:MIAN CHANNU\, PUNJAB COLLEGE \, MIAN CHANNU\, PAKISTAN\, 58000\, P
 UNJAB\, Pakistan
GEO:30.4364451;72.33240799999999
X-APPLE-STRUCTURED-LOCATION;VALUE=URI;X-ADDRESS=PUNJAB COLLEGE \, MIAN CHAN
 NU\, PAKISTAN\, 58000\, PUNJAB\, Pakistan;X-APPLE-RADIUS=100;X-TITLE=MIAN 
 CHANNU:geo:30.4364451,72.33240799999999
END:VEVENT
BEGIN:VTIMEZONE
TZID:Europe/Amsterdam
X-LIC-LOCATION:Europe/Amsterdam
BEGIN:STANDARD
DTSTART:20171029T020000
TZOFFSETFROM:+0200
TZOFFSETTO:+0100
TZNAME:CET
END:STANDARD
END:VTIMEZONE
END:VCALENDAR