BEGIN:VCALENDAR
VERSION:2.0
PRODID:-//wp-events-plugin.com//7.2.3.1//EN
TZID:Europe/Amsterdam
X-WR-TIMEZONE:Europe/Amsterdam
BEGIN:VEVENT
UID:2672@worldglaucomaweek.org
DTSTART;TZID=Europe/Amsterdam:20190309T180000
DTEND;TZID=Europe/Amsterdam:20190309T190000
DTSTAMP:20190306T071428Z
URL:https://www.worldglaucomaweek.org/activity/public-awareness-program-2/
SUMMARY:Public awareness program
DESCRIPTION:
CATEGORIES:Media coverage
LOCATION:Gowtami eye institute\, Gowthami eye Institute\, Rajahmundry\, And
 hra Pradesh \, India
GEO:17.0211429;81.78287929999999
X-APPLE-STRUCTURED-LOCATION;VALUE=URI;X-ADDRESS=Gowthami eye Institute\, Ra
 jahmundry\, Andhra Pradesh \, India;X-APPLE-RADIUS=100;X-TITLE=Gowtami eye
  institute:geo:17.0211429,81.78287929999999
END:VEVENT
BEGIN:VTIMEZONE
TZID:Europe/Amsterdam
X-LIC-LOCATION:Europe/Amsterdam
BEGIN:STANDARD
DTSTART:20181028T020000
TZOFFSETFROM:+0200
TZOFFSETTO:+0100
TZNAME:CET
END:STANDARD
END:VTIMEZONE
END:VCALENDAR