BEGIN:VCALENDAR
VERSION:2.0
PRODID:-//wp-events-plugin.com//7.2.3.1//EN
TZID:Europe/Amsterdam
X-WR-TIMEZONE:Europe/Amsterdam
BEGIN:VEVENT
UID:2989@worldglaucomaweek.org
DTSTART;TZID=Europe/Amsterdam:20190312T000000
DTEND;TZID=Europe/Amsterdam:20190315T000000
DTSTAMP:20190326T130749Z
URL:https://www.worldglaucomaweek.org/activity/public-awareness-creation-o
 n-glaucoma/
SUMMARY:PUBLIC AWARENESS CREATION ON GLAUCOMA
DESCRIPTION:Public awareness creation for glaucoma was carried out on radio
  from the 12th to 15th of March 2019. The radio programs are call in progr
 ams which usually last for an hour on the dates\, 45 minutes into the the 
 program\,a detailed lecture on glaucoma\, causes\, risk factors\, nature o
 f progression and treatment is given. These lecture were delivered by cons
 ultant ophthalmologists who also respond to questions from callers who pho
 ne in ask questions regarding the lecture on glaucoma. Invitation for a fr
 ee eye screening was announced which is organised by the host hospital.
ATTACH;FMTTYPE=image/jpeg:https://www.worldglaucomaweek.org/wp-content/upl
 oads/2019/03/5.jpg
CATEGORIES:Public educational
LOCATION:COAL CITY FM 92.9 RADIO NIGERIA\, COAL CITY FM 92.9 RADIO NIGERIA\
 , ENUGU\, ENUGU\, SOUTH EAST\, Nigeria
X-APPLE-STRUCTURED-LOCATION;VALUE=URI;X-ADDRESS=COAL CITY FM 92.9 RADIO NIG
 ERIA\, ENUGU\, ENUGU\, SOUTH EAST\, Nigeria;X-APPLE-RADIUS=100;X-TITLE=COA
 L CITY FM 92.9 RADIO NIGERIA:geo:0,0
END:VEVENT
BEGIN:VTIMEZONE
TZID:Europe/Amsterdam
X-LIC-LOCATION:Europe/Amsterdam
BEGIN:STANDARD
DTSTART:20181028T020000
TZOFFSETFROM:+0200
TZOFFSETTO:+0100
TZNAME:CET
END:STANDARD
END:VTIMEZONE
END:VCALENDAR