BEGIN:VCALENDAR
VERSION:2.0
PRODID:-//wp-events-plugin.com//7.2.3.1//EN
TZID:Europe/Amsterdam
X-WR-TIMEZONE:Europe/Amsterdam
BEGIN:VEVENT
UID:2805@worldglaucomaweek.org
DTSTART;TZID=Europe/Amsterdam;VALUE=DATE:20190307
DTEND;TZID=Europe/Amsterdam;VALUE=DATE:20190318
DTSTAMP:20190309T174831Z
URL:https://www.worldglaucomaweek.org/activity/public-awareness-campaign-5
 /
SUMMARY:Public awareness campaign
DESCRIPTION:Various billboards at the major airport of Ankara\, Esenboga In
 ternational Airport is on Display.
ATTACH;FMTTYPE=image/jpeg:https://www.worldglaucomaweek.org/wp-content/upl
 oads/2019/03/PHOTO-2019-03-08-12-02-38_Fotor.jpg
CATEGORIES:Media coverage
LOCATION:Esenboga Airport\, Esenboga Airport\, Ankara\, Turkey\, Ankara\, T
 urkey
GEO:40.1244399;32.991672600000015
X-APPLE-STRUCTURED-LOCATION;VALUE=URI;X-ADDRESS=Esenboga Airport\, Ankara\,
  Turkey\, Ankara\, Turkey;X-APPLE-RADIUS=100;X-TITLE=Esenboga Airport:geo:
 40.1244399,32.991672600000015
END:VEVENT
BEGIN:VTIMEZONE
TZID:Europe/Amsterdam
X-LIC-LOCATION:Europe/Amsterdam
BEGIN:STANDARD
DTSTART:20181028T020000
TZOFFSETFROM:+0200
TZOFFSETTO:+0100
TZNAME:CET
END:STANDARD
END:VTIMEZONE
END:VCALENDAR