BEGIN:VCALENDAR
VERSION:2.0
PRODID:-//wp-events-plugin.com//7.2.3.1//EN
TZID:Europe/Amsterdam
X-WR-TIMEZONE:Europe/Amsterdam
BEGIN:VEVENT
UID:2801@worldglaucomaweek.org
DTSTART;TZID=Europe/Amsterdam;VALUE=DATE:20190310
DTEND;TZID=Europe/Amsterdam;VALUE=DATE:20190318
DTSTAMP:20190309T172955Z
URL:https://www.worldglaucomaweek.org/activity/public-awareness-campaign-3
 /
SUMMARY:public awareness campaign
DESCRIPTION:Billboard cars will drive around İzmir for a full week
ATTACH;FMTTYPE=image/jpeg:https://www.worldglaucomaweek.org/wp-content/upl
 oads/2019/03/PHOTO-2019-03-09-17-33-07-4.jpg
CATEGORIES:Public educational
LOCATION:İzmir\, izmir\, İzmir\, Turkey\, 03500\, İzmir\, Turkey
GEO:38.423734;27.142826000000014
X-APPLE-STRUCTURED-LOCATION;VALUE=URI;X-ADDRESS=izmir\, İzmir\, Turkey\, 0
 3500\, İzmir\, Turkey;X-APPLE-RADIUS=100;X-TITLE=İzmir:geo:38.423734,27.
 142826000000014
END:VEVENT
BEGIN:VTIMEZONE
TZID:Europe/Amsterdam
X-LIC-LOCATION:Europe/Amsterdam
BEGIN:STANDARD
DTSTART:20181028T020000
TZOFFSETFROM:+0200
TZOFFSETTO:+0100
TZNAME:CET
END:STANDARD
END:VTIMEZONE
END:VCALENDAR