BEGIN:VCALENDAR
VERSION:2.0
PRODID:-//wp-events-plugin.com//7.2.3.1//EN
TZID:Europe/Amsterdam
X-WR-TIMEZONE:Europe/Amsterdam
BEGIN:VEVENT
UID:2799@worldglaucomaweek.org
DTSTART;TZID=Europe/Amsterdam;VALUE=DATE:20190310
DTEND;TZID=Europe/Amsterdam;VALUE=DATE:20190318
DTSTAMP:20190309T172443Z
URL:https://www.worldglaucomaweek.org/activity/public-awareness-campaign-2
 /
SUMMARY:Public awareness campaign
DESCRIPTION:Billboard Cars will drive around the main areas of Istanbul for
  a week
ATTACH;FMTTYPE=image/jpeg:https://www.worldglaucomaweek.org/wp-content/upl
 oads/2019/03/PHOTO-2019-03-09-17-33-07.jpg
CATEGORIES:Public educational
LOCATION:Istanbul\, Istanbul City center\, Istanbul\, Turkey\, 034100\, Tur
 key\, Turkey
GEO:41.050981;28.987361999999962
X-APPLE-STRUCTURED-LOCATION;VALUE=URI;X-ADDRESS=Istanbul City center\, Ista
 nbul\, Turkey\, 034100\, Turkey\, Turkey;X-APPLE-RADIUS=100;X-TITLE=Istanb
 ul:geo:41.050981,28.987361999999962
END:VEVENT
BEGIN:VTIMEZONE
TZID:Europe/Amsterdam
X-LIC-LOCATION:Europe/Amsterdam
BEGIN:STANDARD
DTSTART:20181028T020000
TZOFFSETFROM:+0200
TZOFFSETTO:+0100
TZNAME:CET
END:STANDARD
END:VTIMEZONE
END:VCALENDAR